BEGIN:VCALENDAR
VERSION:2.0
PRODID:Imitheme.com 
BEGIN:VEVENT
UID:20260423T161917916514542
DTSTAMP;TZID=UTC:2026-04-23 16:19:17
DTSTART;TZID=America/Los_Angeles:20260323T190000
DTEND;TZID=America/Los_Angeles:20260323T200000
SUMMARY:MTC Strength &amp; Conditioning Course
LOCATION:Gymteq
DESCRIPTION:7-8pm @ Gymteq. Weekly payment for 23rd March
URL:https://www.meridiantriclub.co.uk/eventer/mtc-strength-conditioning-course23326/edate/2026-03-23
END:VEVENT
END:VCALENDAR
